BEGIN:VCALENDAR
VERSION:2.0
PRODID:-//Turner Center | Bradley University - ECPv6.15.12.2//NONSGML v1.0//EN
CALSCALE:GREGORIAN
METHOD:PUBLISH
X-WR-CALNAME:Turner Center | Bradley University
X-ORIGINAL-URL:https://theturnercenter.org
X-WR-CALDESC:Events for Turner Center | Bradley University
REFRESH-INTERVAL;VALUE=DURATION:PT1H
X-Robots-Tag:noindex
X-PUBLISHED-TTL:PT1H
BEGIN:VTIMEZONE
TZID:America/Chicago
BEGIN:DAYLIGHT
TZOFFSETFROM:-0600
TZOFFSETTO:-0500
TZNAME:CDT
DTSTART:20250309T080000
END:DAYLIGHT
BEGIN:STANDARD
TZOFFSETFROM:-0500
TZOFFSETTO:-0600
TZNAME:CST
DTSTART:20251102T070000
END:STANDARD
BEGIN:DAYLIGHT
TZOFFSETFROM:-0600
TZOFFSETTO:-0500
TZNAME:CDT
DTSTART:20260308T080000
END:DAYLIGHT
BEGIN:STANDARD
TZOFFSETFROM:-0500
TZOFFSETTO:-0600
TZNAME:CST
DTSTART:20261101T070000
END:STANDARD
BEGIN:DAYLIGHT
TZOFFSETFROM:-0600
TZOFFSETTO:-0500
TZNAME:CDT
DTSTART:20270314T080000
END:DAYLIGHT
BEGIN:STANDARD
TZOFFSETFROM:-0500
TZOFFSETTO:-0600
TZNAME:CST
DTSTART:20271107T070000
END:STANDARD
END:VTIMEZONE
BEGIN:VEVENT
DTSTART;TZID=America/Chicago:20260514T110000
DTEND;TZID=America/Chicago:20260514T120000
DTSTAMP:20260424T043810
CREATED:20260420T171854Z
LAST-MODIFIED:20260420T171855Z
UID:10003733-1778756400-1778760000@theturnercenter.org
SUMMARY:Sharpen Your Product Idea with Gemini - Grow with Google
DESCRIPTION:Have a product idea but unsure if it’s worth building? In this practical workshop\, you’ll learn how to use Gemini AI to validate your concept before investing time\, money\, or resources. \n\n\n\n​We’ll walk through how to use Gemini to research your target market\, analyze competitors\, refine your value proposition\, pressure-test your assumptions\, and identify your ideal customer profile. You’ll also learn how to generate early user feedback questions\, define problem statements\, and clarify what makes your idea different in the marketplace. \n\n\n\n​Whether you’re a founder\, small business owner\, or aspiring product creator\, this session will show you how to use AI as a strategic validation partner — helping you reduce risk\, increase clarity\, and move forward with confidence. \n\n\n\nREGISTER TODAY\n\n\n\n \n\n\n\n\nOur Speaker\n\n\n\nMaria Elena Duron helps small business owners\, content creators\, and service providers grow with clarity\, visibility\, and smart AI strategy.  As a Chief AI officer and nationally recognized Grow with Google Coach\, she’s trained over 18\,000 businesses to turn digital confusion into systems that get them seen\, trusted\, and chosen.
URL:https://theturnercenter.org/event/sharpen-your-product-idea-with-gemini-grow-with-google/
END:VEVENT
BEGIN:VEVENT
DTSTART;TZID=America/Chicago:20260519T110000
DTEND;TZID=America/Chicago:20260519T120000
DTSTAMP:20260424T043810
CREATED:20260420T172237Z
LAST-MODIFIED:20260420T172238Z
UID:10003734-1779188400-1779192000@theturnercenter.org
SUMMARY:Enhancing Customer Engagement with AI: Personalization and Predictive Analytics - Smart Brand System
DESCRIPTION:From email to ecommerce\, AI is now the engine behind deeper personalization. \n\n\n\n Learn how to use AI to create tailored experiences\, anticipate needs\, and drive conversions without guesswork. \n\n\n\nREGISTER TODAY\n\n\n\nIn this webinar\, you will learn: \n\n\n\n ✅ How AI tools personalize experiences at scale \n\n\n\n ✅ Using customer data to predict behavior and drive timing \n\n\n\n ✅ Ethical use of personalization in small business \n\n\n\n ✅ Integrating AI into CRM and content delivery \n\n\n\n ✅ Boosting retention and conversion with minimal manual work \n\n\n\n\nOur Speaker\n\n\n\nMaria Elena Duron helps small business owners\, content creators\, and service providers grow with clarity\, visibility\, and smart AI strategy.  As a Chief AI officer and nationally recognized Grow with Google Coach\, she’s trained over 18\,000 businesses to turn digital confusion into systems that get them seen\, trusted\, and chosen.
URL:https://theturnercenter.org/event/enhancing-customer-engagement-with-ai-personalization-and-predictive-analytics-smart-brand-system-2/
END:VEVENT
BEGIN:VEVENT
DTSTART;TZID=America/Chicago:20260520T110000
DTEND;TZID=America/Chicago:20260520T120000
DTSTAMP:20260424T043810
CREATED:20260420T172429Z
LAST-MODIFIED:20260420T172430Z
UID:10003735-1779274800-1779278400@theturnercenter.org
SUMMARY:Building Marketing Assets Faster- Grow with Google
DESCRIPTION:​Creating consistent\, high-quality marketing materials can be time-consuming — especially when you’re running a small business.  \n\n\n\nIn this hands-on workshop\, you’ll learn how to use Nano Banana to quickly generate polished marketing assets that support your sales and growth goals. \n\n\n\n​We’ll walk through how to create social media graphics\, promotional visuals\, campaign creatives\, and branded content in a fraction of the time it typically takes. You’ll see practical examples of how entrepreneurs are using Nano Banana to move from idea to finished asset quickly — without needing a design team or advanced technical skills. \n\n\n\n​By the end of the session\, you’ll have repeatable workflows and real examples you can use immediately to accelerate your marketing execution\, stay consistent\, and bring campaigns to life faster. \n\n\n\nREGISTER TODAY\n\n\n\n \n\n\n\n\nOur Speaker\n\n\n\nMaria Elena Duron helps small business owners\, content creators\, and service providers grow with clarity\, visibility\, and smart AI strategy.  As a Chief AI officer and nationally recognized Grow with Google Coach\, she’s trained over 18\,000 businesses to turn digital confusion into systems that get them seen\, trusted\, and chosen.
URL:https://theturnercenter.org/event/building-marketing-assets-faster-grow-with-google/
END:VEVENT
BEGIN:VEVENT
DTSTART;TZID=America/Chicago:20260527T110000
DTEND;TZID=America/Chicago:20260527T120000
DTSTAMP:20260424T043810
CREATED:20260420T173129Z
LAST-MODIFIED:20260420T173129Z
UID:10003736-1779879600-1779883200@theturnercenter.org
SUMMARY:Shield. Sharpen. Scale: AI Strategy for Small Business - Smart Brand System
DESCRIPTION:AI isn’t a trend-it’s the new terrain.  In this clarity-driven session\, you’ll learn how to navigate that landscape with a practical AI strategy that protects\, sharpens\, and scales your small business without the overwhelm. This isn’t about learning AI for AI’s sake – it’s about using the right tools and systems to grow smarter\, faster\, and more securely. \n\n\n\nREGISTER TODAY\n\n\n\nIn this webinar\, you will learn: \n\n\n\n✅ How AI search changes the way your business gets found—and what to do about it✅ What “Privacy by Design” really means for small businesses✅ How to set up simple AI systems that boost efficiency and clarity✅ Why trust and visibility are now linked—and how to stay ahead of the curve \n\n\n\n\nOur Speaker\n\n\n\nMaria Elena Duron helps small business owners\, content creators\, and service providers grow with clarity\, visibility\, and smart AI strategy.  As a Chief AI officer and nationally recognized Grow with Google Coach\, she’s trained over 18\,000 businesses to turn digital confusion into systems that get them seen\, trusted\, and chosen.
URL:https://theturnercenter.org/event/shield-sharpen-scale-ai-strategy-for-small-business-smart-brand-system/
END:VEVENT
BEGIN:VEVENT
DTSTART;TZID=America/Chicago:20260528T110000
DTEND;TZID=America/Chicago:20260528T120000
DTSTAMP:20260424T043810
CREATED:20260420T173339Z
LAST-MODIFIED:20260420T173340Z
UID:10003737-1779966000-1779969600@theturnercenter.org
SUMMARY:Turning Business Documents into Action Using NotebookLM - Grow with Google
DESCRIPTION:​Your business is full of valuable information — proposals\, contracts\, SOPs\, reports\, meeting notes — but too often those documents sit unused. In this intermediate-level workshop\, you’ll learn how to use NotebookLM to transform your existing business documents into clear insights\, decisions\, and action plans. \n\n\n\n​We’ll walk through how to upload and organize key materials\, ask strategic questions across multiple documents\, extract themes\, summarize long reports\, and identify gaps or opportunities hiding in plain sight. You’ll see how NotebookLM can help you synthesize information faster\, prepare for strategic planning sessions\, streamline operations\, and make better data-informed decisions without hiring an analyst. \n\n\n\n​Designed for growth-minded entrepreneurs who already have established processes and documentation\, this session will help you move from information overload to operational clarity — turning what your business already knows into smarter next steps. \n\n\n\nREGISTER TODAY\n\n\n\n\nOur Speaker\n\n\n\nMaria Elena Duron helps small business owners\, content creators\, and service providers grow with clarity\, visibility\, and smart AI strategy.  As a Chief AI officer and nationally recognized Grow with Google Coach\, she’s trained over 18\,000 businesses to turn digital confusion into systems that get them seen\, trusted\, and chosen.
URL:https://theturnercenter.org/event/turning-business-documents-into-action-using-notebooklm-grow-with-google/
END:VEVENT
BEGIN:VEVENT
DTSTART;TZID=America/Chicago:20260603T110000
DTEND;TZID=America/Chicago:20260603T120000
DTSTAMP:20260424T043810
CREATED:20260420T173531Z
LAST-MODIFIED:20260420T173532Z
UID:10003738-1780484400-1780488000@theturnercenter.org
SUMMARY:Make AI Work for Local Businesses - Grow with Google
DESCRIPTION:Heard the buzz about AI\, but wondering what it actually means for your business? This workshop cuts through the noise. By exploring practical applications and real-life examples from business owners like you\, you’ll leave with a personalized plan to put AI to work for your business right away. You won’t just learn about Google AI tools – you’ll get hands-on practice. More importantly\, you’ll discover when and how to use them strategically to tackle common business challenges. \n\n\n\nREGISTER TODAY\n\n\n\nIn this webinar\, you will learn: \n\n\n\n✅ Write Effective Prompts: Get clear\, targeted results from AI by defining exactly what you need.✅ Generate Innovative Ideas: Brainstorm solutions and overcome business hurdles when you feel stuck.✅ Streamline Repetitive Tasks: Use AI tools to help you save time and valuable resources. \n\n\n\n\nOur Speaker\n\n\n\nMaria Elena Duron helps small business owners\, content creators\, and service providers grow with clarity\, visibility\, and smart AI strategy.  As a Chief AI officer and nationally recognized Grow with Google Coach\, she’s trained over 18\,000 businesses to turn digital confusion into systems that get them seen\, trusted\, and chosen.
URL:https://theturnercenter.org/event/make-ai-work-for-local-businesses-grow-with-google/
END:VEVENT
BEGIN:VEVENT
DTSTART;TZID=America/Chicago:20260610T110000
DTEND;TZID=America/Chicago:20260610T120000
DTSTAMP:20260424T043810
CREATED:20260420T173825Z
LAST-MODIFIED:20260420T173826Z
UID:10003739-1781089200-1781092800@theturnercenter.org
SUMMARY:How to Use AI to Take Back Time Without Adding More Tools- Smart Brand System
DESCRIPTION:You didn’t start your business to spend your day buried in emails\, chasing follow-ups\, and trying to remember what happened in your last five conversations. \n\n\n\nBut that’s where most business owners are right now. Not because they’re doing anything wrong… but because the way their work flows hasn’t been recalibrated for how business actually runs today. So they stay busy.  They stay behind. And they feel like they can’t step away without something falling through the cracks. \n\n\n\nMost AI training doesn’t fix that. It adds more. More tools. More tabs. More things to manage. \n\n\n\nIn this session we’re going to show you how to use AI inside the systems you already have to support how your business actually works\, so things move without you having to hold everything together. \n\n\n\nREGISTER TODAY\n\n\n\nWhat this changes for you: \n\n\n\n  You stop feeling buried in your inbox and start seeing only what actually needs your attention \n\n\n\n You know every lead is being followed up with\, without wondering what you missed \n\n\n\n Your conversations turn into clear next steps without you having to go back and piece them together later \n\n\n\n Your day feels structured instead of reactive \n\n\n\n You get time back without sacrificing responsiveness or quality \n\n\n\n\nOur Speaker\n\n\n\nMaria Elena Duron helps small business owners\, content creators\, and service providers grow with clarity\, visibility\, and smart AI strategy.  As a Chief AI officer and nationally recognized Grow with Google Coach\, she’s trained over 18\,000 businesses to turn digital confusion into systems that get them seen\, trusted\, and chosen.
URL:https://theturnercenter.org/event/how-to-use-ai-to-take-back-time-without-adding-more-tools-smart-brand-system/
END:VEVENT
BEGIN:VEVENT
DTSTART;TZID=America/Chicago:20260610T150000
DTEND;TZID=America/Chicago:20260610T170000
DTSTAMP:20260424T043810
CREATED:20251204T162604Z
LAST-MODIFIED:20251204T162637Z
UID:10003708-1781103600-1781110800@theturnercenter.org
SUMMARY:Starting Your Business in Illinois Workshop
DESCRIPTION:This in-person workshop is for aspiring entrepreneurs who want to learn all the components of how to start a successful business in Illinois. Get a realistic view of the requirements to start a business and the resources available to support your new venture. While attending this no cost 2-hour workshop\, you will learn how to get your business name registered\, where to obtain a tax ID number\, which legal form to choose\, business planning\, taxes\, financing options and much more! After attending the workshop\, our team of certified business advisors are available to work with you\, one-on-one\, to navigate the process and help you succeed! This workshop is sponsored by the Illinois Small Business Development Center at Bradley University and co-sponsored by Morton Community Bank. After registering\, you will receive a confirmation email. All of these workshops are in-person. \n\n\n\nREGISTER TODAY\n\n\n\n\n2026 Schedule\n\n\n\n\nWednesday\,  January 21 | 10:00AM—12:00PMPeoria NEXT Innovation Center\, 801 W Main Street\, Peoria 61606 MAP | Register\n\n\n\nWednesday\,  February 18 | 9:00AM—11:00AMPeoria NEXT Innovation Center\, 801 W Main Street\, Peoria 61606 MAP | Register\n\n\n\nWednesday\,  March 18 | 3:00PM—5:00PMBradley University – BECC 1130\, 1422 W Main Street\, Peoria 61606 MAP | Register\n\n\n\nWednesday\,  April 15 | 9:00AM—11:00AMPeoria NEXT Innovation Center\, 801 W Main Street\, Peoria 61606 MAP | Register\n\n\n\nWednesday\,  May 13 | 1:00PM—3:00PMPeoria NEXT Innovation Center\, 801 W Main Street\, Peoria 61606 MAP | Register\n\n\n\nWednesday\,  June 10 | 3:00PM—5:00PMPeoria NEXT Innovation Center\, 801 W Main Street\, Peoria 61606 MAP | Register\n\n\n\n\n\n\n\n\nIf you are unable to attend one of the in-person events above\, please watch the on-demand recording of the State of Illinois’ introductory guide for entrepreneurs wanting to start a business in Illinois below\, prior to meeting with a business advisor. \n\n\n\nView On-demand Recording\n\n\n\n\n\n\n\nFor more information\, please contact the Illinois Small Business Development Center at illinoissbdc@bradley.edu or call 309.677.2992 (ask for Amy\, if prompted).
URL:https://theturnercenter.org/event/starting-your-business-in-illinois-workshop-jun-26/
LOCATION:Peoria NEXT Innovation Center\, 801 W Main Street\, Peoria\, IL\, 61606\, United States
CATEGORIES:In-Person
END:VEVENT
BEGIN:VEVENT
DTSTART;TZID=America/Chicago:20260611T110000
DTEND;TZID=America/Chicago:20260611T120000
DTSTAMP:20260424T043811
CREATED:20260420T174006Z
LAST-MODIFIED:20260420T174007Z
UID:10003740-1781175600-1781179200@theturnercenter.org
SUMMARY:Grow Your Business with AI Powered Tools- Grow with Google
DESCRIPTION:Artificial Intelligence (AI) is a powerful technology that can help simplify business tasks and create new opportunities for small businesses and entrepreneurs – but knowing how to use it may seem out of reach. Developed with input from experts at Google\, this workshop will explain the basics of AI and how AI-powered tools by Google can help small businesses be more efficient\, enhance customer experiences\, and drive growth. \n\n\n\nREGISTER TODAY\n\n\n\n \n\n\n\n\nOur Speaker\n\n\n\nMaria Elena Duron helps small business owners\, content creators\, and service providers grow with clarity\, visibility\, and smart AI strategy.  As a Chief AI officer and nationally recognized Grow with Google Coach\, she’s trained over 18\,000 businesses to turn digital confusion into systems that get them seen\, trusted\, and chosen.
URL:https://theturnercenter.org/event/grow-your-business-with-ai-powered-tools-grow-with-google/
END:VEVENT
BEGIN:VEVENT
DTSTART;TZID=America/Chicago:20260617T110000
DTEND;TZID=America/Chicago:20260617T120000
DTSTAMP:20260424T043811
CREATED:20260420T174209Z
LAST-MODIFIED:20260420T174211Z
UID:10003741-1781694000-1781697600@theturnercenter.org
SUMMARY:Automate Business Workflows Using Gemini - Grow with Google
DESCRIPTION:​Small business owners wear many hats\, but repetitive tasks shouldn’t slow you down. In this hands-on workshop\, you’ll learn how to use Gemini to automate and streamline everyday business workflows so you can focus on growth instead of busy work. \n\n\n\n​We’ll walk through practical\, real-world examples of how entrepreneurs are using Gemini to draft emails\, generate proposals\, create SOPs\, organize customer information\, summarize documents\, build marketing assets\, and more. You’ll leave with repeatable prompts\, workflow templates\, and a clearer understanding of how to integrate AI into your daily operations — without needing technical expertise. \n\n\n\n​If you’re looking to save time\, reduce costs\, and improve productivity using AI\, this session will give you the tools to start immediately. \n\n\n\nREGISTER TODAY\n\n\n\n\nOur Speaker\n\n\n\nMaria Elena Duron helps small business owners\, content creators\, and service providers grow with clarity\, visibility\, and smart AI strategy.  As a Chief AI officer and nationally recognized Grow with Google Coach\, she’s trained over 18\,000 businesses to turn digital confusion into systems that get them seen\, trusted\, and chosen.
URL:https://theturnercenter.org/event/automate-business-workflows-using-gemini-grow-with-google/
END:VEVENT
BEGIN:VEVENT
DTSTART;TZID=America/Chicago:20260618T110000
DTEND;TZID=America/Chicago:20260618T120000
DTSTAMP:20260424T043811
CREATED:20260420T174414Z
LAST-MODIFIED:20260420T174416Z
UID:10003742-1781780400-1781784000@theturnercenter.org
SUMMARY:Make Better Decisions with Analytics and AI - Grow with Google
DESCRIPTION:Your data is talking. Are you listening? \n\n\n\nArtificial Intelligence has changed the game. You no longer need to be a math whiz to understand your website. This beginner-friendly workshop shows you how to pair Google Analytics with AI to turn raw traffic into clear business insights. Stop guessing and start growing with tools that highlight the “why” behind your numbers. \n\n\n\nA clear introduction to what matters and how to use modern tools to move your business forward. If you’ve ever wondered what’s working\, what’s not\, or how to predict what your customers will do next… this session is your starting point. \n\n\n\nREGISTER TODAY\n\n\n\nIn this webinar\, you will learn: \n\n\n\n✅ The Essentials: What Google Analytics is and how to get it running right. \n\n\n\n✅ AI-Powered Insights: How to use AI to find the “hidden stories” in your data automatically. \n\n\n\n✅ The Metrics That Matter: Cutting through the noise to find the numbers that impact your profit. \n\n\n\n✅ Customer Intent: Moving beyond simple clicks to understand why people stay or leave. \n\n\n\n✅ Smarter Strategy: Using data and AI predictions to fine-tune your marketing\, content\, and offers. \n\n\n\n\nOur Speaker\n\n\n\nMaria Elena Duron helps small business owners\, content creators\, and service providers grow with clarity\, visibility\, and smart AI strategy.  As a Chief AI officer and nationally recognized Grow with Google Coach\, she’s trained over 18\,000 businesses to turn digital confusion into systems that get them seen\, trusted\, and chosen.
URL:https://theturnercenter.org/event/make-better-decisions-with-analytics-and-ai-grow-with-google/
END:VEVENT
END:VCALENDAR